BEGIN:VCALENDAR
VERSION:2.0
PRODID:-//https://richemont-club.mx///NONSGML kigkonsult.se iCalcreator 2.10.15//
METHOD:PUBLISH
BEGIN:VEVENT
UID:20260422T145016UTC-2740fUeFVS@https://richemont-club.mx/
DTSTAMP:20260422T145016Z
DESCRIPTION: https://richemont-club.mx/es/events-mx/event/28-irc-meeting-it
 aly-2026
DTSTART;VALUE=DATE:20260918
LOCATION:see attachment ()
SUMMARY:IRC Meeting Italy 2026
URL:https://richemont-club.mx/es/events-mx/event/28-irc-meeting-italy-2026
END:VEVENT
END:VCALENDAR
